BEGIN:VCALENDAR
METHOD:PUBLISH
PRODID:Data::ICal 0.13
VERSION:2.0
BEGIN:VEVENT
DESCRIPTION:
DTSTAMP:20260425T184813Z
DTSTART;TZID=America/New_York:20260502T200000
DTEND;TZID=America/New_York:20260502T200000
LOCATION:175 Trilith Pkwy\, Fayetteville\, GA\, 30214
SUMMARY:Jeffrey Osborne &amp; Peabo Bryson
UID:2852546-1777752000-1777752000
END:VEVENT
END:VCALENDAR
